BEGIN:VCALENDAR
METHOD:PUBLISH
VERSION:2.0
PRODID:-//hacksw/handcal//NONSGML v1.0//EN
X-WR-TIMEZONE:Australia/Perth
CALSCALE:GREGORIAN
BEGIN:VEVENT
DTSTART;TZID=Australia/Perth:20260517T083000
DTEND;TZID=Australia/Perth:20260517T150000
UID:1241086104369AD87B5510BE929650128069AD87B5510DB75028307712410861
DTSTAMP:20260420T104908
LOCATION:Granville Park, off Weld Street, Gingin
DESCRIPTION:All British Car Day is on again this year where we can display
  our Healeys along with other Veteran, Vintage, Classic and current Britis
 h Cars. There will be working displays of Model Ships, Music, Entertainmen
 t and activities as well as a variety of craft produce and food stalls all
  in the grounds of the beautiful Granville Park. We have been advised that
  we will be situated in our usual display area off Weld Street as per the 
 below map.  Attendees should aim to arrive between 8.30 am and 9.00 am. Pl
 ease let us know if you are attending so that we can manage the display ar
 ea. Contact details are: Darrel Manning Email: sueanddaz@me.com  Mobile: 
 0455 547 519 For further information, visit: https://www.gingin.wa.gov.au/
 events/
URL;VALUE=URI:http://austinhealeywa.org.au/events/view.php?id=124108610436
 9AD87B5510BE929650128069AD87B5510DB75028307712410861
SUMMARY:British Car Day - Gingin
END:VEVENT
END:VCALENDAR
